BEGIN:VCALENDAR
VERSION:2.0
PRODID:WindWanderers Inc
CALSCALE:GREGORIAN
BEGIN:VEVENT
DTSTAMP:20200228T114249Z
UID:493531db-52e1-4208-8e31-2fdb0482d7ac
DTSTART:20170917T091300Z
DESCRIPTION:Club annual general meeting
LOCATION:21 Hinterland Dr\, 21 Hinterland Dr\, Little Mountain QLD 4551\, A
 ustralia
SUMMARY:AGM
URL:https://windwanderers.org.au/public/schedule/meetings/dc3795eebd9a2e50
END:VEVENT
END:VCALENDAR
