BEGIN:VCALENDAR
VERSION:2.0
PRODID:WindWanderers Inc
CALSCALE:GREGORIAN
BEGIN:VEVENT
DTSTAMP:20200228T114142Z
UID:50eacecf-7ebc-40d5-b61b-d51e63d7b4c3
DTSTART:20181014T000000Z
DESCRIPTION:
LOCATION:Esplanade\, Esplanade\, Golden Beach QLD 4551\, Australia
SUMMARY:AGM 
URL:https://windwanderers.org.au/public/schedule/meetings/b22295608a02c0d8
END:VEVENT
END:VCALENDAR
