BEGIN:VCALENDAR
VERSION:2.0
PRODID:WindWanderers Inc
CALSCALE:GREGORIAN
BEGIN:VEVENT
DTSTAMP:20200228T114035Z
UID:cb0a41f6-916a-457d-b9e7-31f311ce28e4
DTSTART:20191012T003000Z
DESCRIPTION:
LOCATION:Lake Cootharaba\, Lake Cootharaba\, Queensland\, Australia
SUMMARY:AGM
URL:https://windwanderers.org.au/public/schedule/meetings/81aa8fe77097f620
END:VEVENT
END:VCALENDAR
